BEGIN:VCALENDAR
VERSION:2.0
PRODID:-//WhenKickoff//Match Reminder//EN
BEGIN:VEVENT
UID:wk-537658-15@whenkickoff.com
DTSTAMP:20260419T192316Z
DTSTART:20260301T154500Z
DTEND:20260301T174500Z
SUMMARY:FC Utrecht vs AZ
DESCRIPTION:WhenKickoff reminder for FC Utrecht vs AZ
URL:https://whenkickoff.com/en/match/fc-utrecht-vs-az-537658/
BEGIN:VALARM
TRIGGER:-PT15M
ACTION:DISPLAY
DESCRIPTION:Match starts soon
END:VALARM
END:VEVENT
END:VCALENDAR
