BEGIN:VCALENDAR
VERSION:2.0
PRODID:-//WhenKickoff//Match Reminder//EN
BEGIN:VEVENT
UID:wk-537655-15@whenkickoff.com
DTSTAMP:20260419T201249Z
DTSTART:20260221T174500Z
DTEND:20260221T194500Z
SUMMARY:PSV vs SC Heerenveen
DESCRIPTION:WhenKickoff reminder for PSV vs SC Heerenveen
URL:https://whenkickoff.com/en/match/psv-vs-sc-heerenveen-537655/
BEGIN:VALARM
TRIGGER:-PT15M
ACTION:DISPLAY
DESCRIPTION:Match starts soon
END:VALARM
END:VEVENT
END:VCALENDAR
