BEGIN:VCALENDAR
VERSION:2.0
PRODID:-//WhenKickoff//Match Reminder//EN
BEGIN:VEVENT
UID:wk-537652-15@whenkickoff.com
DTSTAMP:20260419T231151Z
DTSTART:20260220T190000Z
DTEND:20260220T210000Z
SUMMARY:Fortuna Sittard vs SBV Excelsior
DESCRIPTION:WhenKickoff reminder for Fortuna Sittard vs SBV Excelsior
URL:https://whenkickoff.com/en/match/fortuna-sittard-vs-sbv-excelsior-537652/
BEGIN:VALARM
TRIGGER:-PT15M
ACTION:DISPLAY
DESCRIPTION:Match starts soon
END:VALARM
END:VEVENT
END:VCALENDAR
