BEGIN:VCALENDAR
VERSION:2.0
PRODID:-//WhenKickoff//Match Reminder//EN
BEGIN:VEVENT
UID:wk-537649-15@whenkickoff.com
DTSTAMP:20260419T215032Z
DTSTART:20260222T154500Z
DTEND:20260222T174500Z
SUMMARY:AZ vs Sparta Rotterdam
DESCRIPTION:WhenKickoff reminder for AZ vs Sparta Rotterdam
URL:https://whenkickoff.com/en/match/az-vs-sparta-rotterdam-537649/
BEGIN:VALARM
TRIGGER:-PT15M
ACTION:DISPLAY
DESCRIPTION:Match starts soon
END:VALARM
END:VEVENT
END:VCALENDAR
