BEGIN:VCALENDAR
VERSION:2.0
PRODID:-//WhenKickoff//Match Reminder//EN
BEGIN:VEVENT
UID:wk-537647-15@whenkickoff.com
DTSTAMP:20260420T035128Z
DTSTART:20260215T133000Z
DTEND:20260215T153000Z
SUMMARY:Telstar 1963 vs FC Twente '65
DESCRIPTION:WhenKickoff reminder for Telstar 1963 vs FC Twente '65
URL:https://whenkickoff.com/en/match/telstar-1963-vs-fc-twente-65-537647/
BEGIN:VALARM
TRIGGER:-PT15M
ACTION:DISPLAY
DESCRIPTION:Match starts soon
END:VALARM
END:VEVENT
END:VCALENDAR
