BEGIN:VCALENDAR
VERSION:2.0
PRODID:-//WhenKickoff//Match Reminder//EN
BEGIN:VEVENT
UID:wk-537646-15@whenkickoff.com
DTSTAMP:20260420T023949Z
DTSTART:20260217T190000Z
DTEND:20260217T210000Z
SUMMARY:Sparta Rotterdam vs NEC
DESCRIPTION:WhenKickoff reminder for Sparta Rotterdam vs NEC
URL:https://whenkickoff.com/en/match/sparta-rotterdam-vs-nec-537646/
BEGIN:VALARM
TRIGGER:-PT15M
ACTION:DISPLAY
DESCRIPTION:Match starts soon
END:VALARM
END:VEVENT
END:VCALENDAR
