BEGIN:VCALENDAR
VERSION:2.0
PRODID:-//WhenKickoff//Match Reminder//EN
BEGIN:VEVENT
UID:wk-537645-15@whenkickoff.com
DTSTAMP:20260420T033736Z
DTSTART:20260215T133000Z
DTEND:20260215T153000Z
SUMMARY:SC Heerenveen vs PEC Zwolle
DESCRIPTION:WhenKickoff reminder for SC Heerenveen vs PEC Zwolle
URL:https://whenkickoff.com/en/match/sc-heerenveen-vs-pec-zwolle-537645/
BEGIN:VALARM
TRIGGER:-PT15M
ACTION:DISPLAY
DESCRIPTION:Match starts soon
END:VALARM
END:VEVENT
END:VCALENDAR
