BEGIN:VCALENDAR
VERSION:2.0
PRODID:-//WhenKickoff//Match Reminder//EN
BEGIN:VEVENT
UID:wk-537644-15@whenkickoff.com
DTSTAMP:20260420T043210Z
DTSTART:20260214T153000Z
DTEND:20260214T173000Z
SUMMARY:Heracles Almelo vs NAC Breda
DESCRIPTION:WhenKickoff reminder for Heracles Almelo vs NAC Breda
URL:https://whenkickoff.com/en/match/heracles-almelo-vs-nac-breda-537644/
BEGIN:VALARM
TRIGGER:-PT15M
ACTION:DISPLAY
DESCRIPTION:Match starts soon
END:VALARM
END:VEVENT
END:VCALENDAR
