BEGIN:VCALENDAR
VERSION:2.0
PRODID:-//WhenKickoff//Match Reminder//EN
BEGIN:VEVENT
UID:wk-537643-15@whenkickoff.com
DTSTAMP:20260420T033737Z
DTSTART:20260215T111500Z
DTEND:20260215T131500Z
SUMMARY:Feyenoord Rotterdam vs Go Ahead Eagles
DESCRIPTION:WhenKickoff reminder for Feyenoord Rotterdam vs Go Ahead Eagles
URL:https://whenkickoff.com/en/match/feyenoord-rotterdam-vs-go-ahead-eagles-537643/
BEGIN:VALARM
TRIGGER:-PT15M
ACTION:DISPLAY
DESCRIPTION:Match starts soon
END:VALARM
END:VEVENT
END:VCALENDAR
