BEGIN:VCALENDAR
VERSION:2.0
PRODID:-//WhenKickoff//Match Reminder//EN
BEGIN:VEVENT
UID:wk-537642-15@whenkickoff.com
DTSTAMP:20260420T053327Z
DTSTART:20260213T190000Z
DTEND:20260213T210000Z
SUMMARY:FC Volendam vs PSV
DESCRIPTION:WhenKickoff reminder for FC Volendam vs PSV
URL:https://whenkickoff.com/en/match/fc-volendam-vs-psv-537642/
BEGIN:VALARM
TRIGGER:-PT15M
ACTION:DISPLAY
DESCRIPTION:Match starts soon
END:VALARM
END:VEVENT
END:VCALENDAR
