BEGIN:VCALENDAR
VERSION:2.0
PRODID:-//WhenKickoff//Match Reminder//EN
BEGIN:VEVENT
UID:wk-537640-15@whenkickoff.com
DTSTAMP:20260420T053326Z
DTSTART:20260214T174500Z
DTEND:20260214T194500Z
SUMMARY:SBV Excelsior vs AZ
DESCRIPTION:WhenKickoff reminder for SBV Excelsior vs AZ
URL:https://whenkickoff.com/en/match/sbv-excelsior-vs-az-537640/
BEGIN:VALARM
TRIGGER:-PT15M
ACTION:DISPLAY
DESCRIPTION:Match starts soon
END:VALARM
END:VEVENT
END:VCALENDAR
