BEGIN:VCALENDAR
VERSION:2.0
PRODID:-//WhenKickoff//Match Reminder//EN
BEGIN:VEVENT
UID:wk-537639-15@whenkickoff.com
DTSTAMP:20260420T061256Z
DTSTART:20260214T190000Z
DTEND:20260214T210000Z
SUMMARY:AFC Ajax vs Fortuna Sittard
DESCRIPTION:WhenKickoff reminder for AFC Ajax vs Fortuna Sittard
URL:https://whenkickoff.com/en/match/afc-ajax-vs-fortuna-sittard-537639/
BEGIN:VALARM
TRIGGER:-PT15M
ACTION:DISPLAY
DESCRIPTION:Match starts soon
END:VALARM
END:VEVENT
END:VCALENDAR
