BEGIN:VCALENDAR
VERSION:2.0
PRODID:-//WhenKickoff//Match Reminder//EN
BEGIN:VEVENT
UID:wk-537638-15@whenkickoff.com
DTSTAMP:20260420T110736Z
DTSTART:20260207T190000Z
DTEND:20260207T210000Z
SUMMARY:FC Twente '65 vs SC Heerenveen
DESCRIPTION:WhenKickoff reminder for FC Twente '65 vs SC Heerenveen
URL:https://whenkickoff.com/en/match/fc-twente-65-vs-sc-heerenveen-537638/
BEGIN:VALARM
TRIGGER:-PT15M
ACTION:DISPLAY
DESCRIPTION:Match starts soon
END:VALARM
END:VEVENT
END:VCALENDAR
