BEGIN:VCALENDAR
VERSION:2.0
PRODID:-//WhenKickoff//Match Reminder//EN
BEGIN:VEVENT
UID:wk-537635-15@whenkickoff.com
DTSTAMP:20260420T110642Z
DTSTART:20260206T190000Z
DTEND:20260206T210000Z
SUMMARY:NAC Breda vs SBV Excelsior
DESCRIPTION:WhenKickoff reminder for NAC Breda vs SBV Excelsior
URL:https://whenkickoff.com/en/match/nac-breda-vs-sbv-excelsior-537635/
BEGIN:VALARM
TRIGGER:-PT15M
ACTION:DISPLAY
DESCRIPTION:Match starts soon
END:VALARM
END:VEVENT
END:VCALENDAR
