BEGIN:VCALENDAR
VERSION:2.0
PRODID:-//WhenKickoff//Match Reminder//EN
BEGIN:VEVENT
UID:wk-537633-15@whenkickoff.com
DTSTAMP:20260420T110643Z
DTSTART:20260207T200000Z
DTEND:20260207T220000Z
SUMMARY:Fortuna Sittard vs Sparta Rotterdam
DESCRIPTION:WhenKickoff reminder for Fortuna Sittard vs Sparta Rotterdam
URL:https://whenkickoff.com/en/match/fortuna-sittard-vs-sparta-rotterdam-537633/
BEGIN:VALARM
TRIGGER:-PT15M
ACTION:DISPLAY
DESCRIPTION:Match starts soon
END:VALARM
END:VEVENT
END:VCALENDAR
