BEGIN:VCALENDAR
VERSION:2.0
PRODID:-//WhenKickoff//Match Reminder//EN
BEGIN:VEVENT
UID:wk-537632-15@whenkickoff.com
DTSTAMP:20260420T083907Z
DTSTART:20260208T111500Z
DTEND:20260208T131500Z
SUMMARY:FC Utrecht vs Feyenoord Rotterdam
DESCRIPTION:WhenKickoff reminder for FC Utrecht vs Feyenoord Rotterdam
URL:https://whenkickoff.com/en/match/fc-utrecht-vs-feyenoord-rotterdam-537632/
BEGIN:VALARM
TRIGGER:-PT15M
ACTION:DISPLAY
DESCRIPTION:Match starts soon
END:VALARM
END:VEVENT
END:VCALENDAR
