BEGIN:VCALENDAR
VERSION:2.0
PRODID:-//WhenKickoff//Match Reminder//EN
BEGIN:VEVENT
UID:wk-537631-15@whenkickoff.com
DTSTAMP:20260420T083930Z
DTSTART:20260208T154500Z
DTEND:20260208T174500Z
SUMMARY:FC Groningen vs PSV
DESCRIPTION:WhenKickoff reminder for FC Groningen vs PSV
URL:https://whenkickoff.com/en/match/fc-groningen-vs-psv-537631/
BEGIN:VALARM
TRIGGER:-PT15M
ACTION:DISPLAY
DESCRIPTION:Match starts soon
END:VALARM
END:VEVENT
END:VCALENDAR
