BEGIN:VCALENDAR
VERSION:2.0
PRODID:-//WhenKickoff//Match Reminder//EN
BEGIN:VEVENT
UID:wk-537630-15@whenkickoff.com
DTSTAMP:20260420T083926Z
DTSTART:20260208T133000Z
DTEND:20260208T153000Z
SUMMARY:AZ vs AFC Ajax
DESCRIPTION:WhenKickoff reminder for AZ vs AFC Ajax
URL:https://whenkickoff.com/en/match/az-vs-afc-ajax-537630/
BEGIN:VALARM
TRIGGER:-PT15M
ACTION:DISPLAY
DESCRIPTION:Match starts soon
END:VALARM
END:VEVENT
END:VCALENDAR
