BEGIN:VCALENDAR
VERSION:2.0
PRODID:-//WhenKickoff//Match Reminder//EN
BEGIN:VEVENT
UID:wk-537628-15@whenkickoff.com
DTSTAMP:20260420T171155Z
DTSTART:20260201T154500Z
DTEND:20260201T174500Z
SUMMARY:SC Heerenveen vs FC Utrecht
DESCRIPTION:WhenKickoff reminder for SC Heerenveen vs FC Utrecht
URL:https://whenkickoff.com/en/match/sc-heerenveen-vs-fc-utrecht-537628/
BEGIN:VALARM
TRIGGER:-PT15M
ACTION:DISPLAY
DESCRIPTION:Match starts soon
END:VALARM
END:VEVENT
END:VCALENDAR
