BEGIN:VCALENDAR
VERSION:2.0
PRODID:-//WhenKickoff//Match Reminder//EN
BEGIN:VEVENT
UID:wk-537627-15@whenkickoff.com
DTSTAMP:20260420T171214Z
DTSTART:20260201T133000Z
DTEND:20260201T153000Z
SUMMARY:PSV vs Feyenoord Rotterdam
DESCRIPTION:WhenKickoff reminder for PSV vs Feyenoord Rotterdam
URL:https://whenkickoff.com/en/match/psv-vs-feyenoord-rotterdam-537627/
BEGIN:VALARM
TRIGGER:-PT15M
ACTION:DISPLAY
DESCRIPTION:Match starts soon
END:VALARM
END:VEVENT
END:VCALENDAR
