BEGIN:VCALENDAR
VERSION:2.0
PRODID:-//WhenKickoff//Match Reminder//EN
BEGIN:VEVENT
UID:wk-537626-15@whenkickoff.com
DTSTAMP:20260420T153027Z
DTSTART:20260131T174500Z
DTEND:20260131T194500Z
SUMMARY:PEC Zwolle vs Telstar 1963
DESCRIPTION:WhenKickoff reminder for PEC Zwolle vs Telstar 1963
URL:https://whenkickoff.com/en/match/pec-zwolle-vs-telstar-1963-537626/
BEGIN:VALARM
TRIGGER:-PT15M
ACTION:DISPLAY
DESCRIPTION:Match starts soon
END:VALARM
END:VEVENT
END:VCALENDAR
