BEGIN:VCALENDAR
VERSION:2.0
PRODID:-//WhenKickoff//Match Reminder//EN
BEGIN:VEVENT
UID:wk-537625-15@whenkickoff.com
DTSTAMP:20260420T173855Z
DTSTART:20260130T190000Z
DTEND:20260130T210000Z
SUMMARY:NAC Breda vs FC Twente '65
DESCRIPTION:WhenKickoff reminder for NAC Breda vs FC Twente '65
URL:https://whenkickoff.com/en/match/nac-breda-vs-fc-twente-65-537625/
BEGIN:VALARM
TRIGGER:-PT15M
ACTION:DISPLAY
DESCRIPTION:Match starts soon
END:VALARM
END:VEVENT
END:VCALENDAR
