BEGIN:VCALENDAR
VERSION:2.0
PRODID:-//WhenKickoff//Match Reminder//EN
BEGIN:VEVENT
UID:wk-537624-15@whenkickoff.com
DTSTAMP:20260420T171215Z
DTSTART:20260201T133000Z
DTEND:20260201T153000Z
SUMMARY:Heracles Almelo vs Fortuna Sittard
DESCRIPTION:WhenKickoff reminder for Heracles Almelo vs Fortuna Sittard
URL:https://whenkickoff.com/en/match/heracles-almelo-vs-fortuna-sittard-537624/
BEGIN:VALARM
TRIGGER:-PT15M
ACTION:DISPLAY
DESCRIPTION:Match starts soon
END:VALARM
END:VEVENT
END:VCALENDAR
