BEGIN:VCALENDAR
VERSION:2.0
PRODID:-//WhenKickoff//Match Reminder//EN
BEGIN:VEVENT
UID:wk-537623-15@whenkickoff.com
DTSTAMP:20260420T171215Z
DTSTART:20260201T190000Z
DTEND:20260201T210000Z
SUMMARY:FC Volendam vs Go Ahead Eagles
DESCRIPTION:WhenKickoff reminder for FC Volendam vs Go Ahead Eagles
URL:https://whenkickoff.com/en/match/fc-volendam-vs-go-ahead-eagles-537623/
BEGIN:VALARM
TRIGGER:-PT15M
ACTION:DISPLAY
DESCRIPTION:Match starts soon
END:VALARM
END:VEVENT
END:VCALENDAR
