BEGIN:VCALENDAR
VERSION:2.0
PRODID:-//WhenKickoff//Match Reminder//EN
BEGIN:VEVENT
UID:wk-537622-15@whenkickoff.com
DTSTAMP:20260420T171156Z
DTSTART:20260201T111500Z
DTEND:20260201T131500Z
SUMMARY:SBV Excelsior vs AFC Ajax
DESCRIPTION:WhenKickoff reminder for SBV Excelsior vs AFC Ajax
URL:https://whenkickoff.com/en/match/sbv-excelsior-vs-afc-ajax-537622/
BEGIN:VALARM
TRIGGER:-PT15M
ACTION:DISPLAY
DESCRIPTION:Match starts soon
END:VALARM
END:VEVENT
END:VCALENDAR
