BEGIN:VCALENDAR
VERSION:2.0
PRODID:-//WhenKickoff//Match Reminder//EN
BEGIN:VEVENT
UID:wk-537621-15@whenkickoff.com
DTSTAMP:20260420T153055Z
DTSTART:20260131T153000Z
DTEND:20260131T173000Z
SUMMARY:AZ vs NEC
DESCRIPTION:WhenKickoff reminder for AZ vs NEC
URL:https://whenkickoff.com/en/match/az-vs-nec-537621/
BEGIN:VALARM
TRIGGER:-PT15M
ACTION:DISPLAY
DESCRIPTION:Match starts soon
END:VALARM
END:VEVENT
END:VCALENDAR
