BEGIN:VCALENDAR
VERSION:2.0
PRODID:-//WhenKickoff//Match Reminder//EN
BEGIN:VEVENT
UID:wk-537620-15@whenkickoff.com
DTSTAMP:20260420T095834Z
DTSTART:20260124T200000Z
DTEND:20260124T220000Z
SUMMARY:FC Twente '65 vs SBV Excelsior
DESCRIPTION:WhenKickoff reminder for FC Twente '65 vs SBV Excelsior
URL:https://whenkickoff.com/en/match/fc-twente-65-vs-sbv-excelsior-537620/
BEGIN:VALARM
TRIGGER:-PT15M
ACTION:DISPLAY
DESCRIPTION:Match starts soon
END:VALARM
END:VEVENT
END:VCALENDAR
