BEGIN:VCALENDAR
VERSION:2.0
PRODID:-//WhenKickoff//Match Reminder//EN
BEGIN:VEVENT
UID:wk-537619-15@whenkickoff.com
DTSTAMP:20260420T113422Z
DTSTART:20260125T111500Z
DTEND:20260125T131500Z
SUMMARY:Telstar 1963 vs AZ
DESCRIPTION:WhenKickoff reminder for Telstar 1963 vs AZ
URL:https://whenkickoff.com/en/match/telstar-1963-vs-az-537619/
BEGIN:VALARM
TRIGGER:-PT15M
ACTION:DISPLAY
DESCRIPTION:Match starts soon
END:VALARM
END:VEVENT
END:VCALENDAR
