BEGIN:VCALENDAR
VERSION:2.0
PRODID:-//WhenKickoff//Match Reminder//EN
BEGIN:VEVENT
UID:wk-537618-15@whenkickoff.com
DTSTAMP:20260420T095833Z
DTSTART:20260124T190000Z
DTEND:20260124T210000Z
SUMMARY:PSV vs NAC Breda
DESCRIPTION:WhenKickoff reminder for PSV vs NAC Breda
URL:https://whenkickoff.com/en/match/psv-vs-nac-breda-537618/
BEGIN:VALARM
TRIGGER:-PT15M
ACTION:DISPLAY
DESCRIPTION:Match starts soon
END:VALARM
END:VEVENT
END:VCALENDAR
