BEGIN:VCALENDAR
VERSION:2.0
PRODID:-//WhenKickoff//Match Reminder//EN
BEGIN:VEVENT
UID:wk-537617-15@whenkickoff.com
DTSTAMP:20260420T095832Z
DTSTART:20260124T174500Z
DTEND:20260124T194500Z
SUMMARY:NEC vs PEC Zwolle
DESCRIPTION:WhenKickoff reminder for NEC vs PEC Zwolle
URL:https://whenkickoff.com/en/match/nec-vs-pec-zwolle-537617/
BEGIN:VALARM
TRIGGER:-PT15M
ACTION:DISPLAY
DESCRIPTION:Match starts soon
END:VALARM
END:VEVENT
END:VCALENDAR
