BEGIN:VCALENDAR
VERSION:2.0
PRODID:-//WhenKickoff//Match Reminder//EN
BEGIN:VEVENT
UID:wk-537616-15@whenkickoff.com
DTSTAMP:20260420T064001Z
DTSTART:20260211T174500Z
DTEND:20260211T194500Z
SUMMARY:Go Ahead Eagles vs SC Heerenveen
DESCRIPTION:WhenKickoff reminder for Go Ahead Eagles vs SC Heerenveen
URL:https://whenkickoff.com/en/match/go-ahead-eagles-vs-sc-heerenveen-537616/
BEGIN:VALARM
TRIGGER:-PT15M
ACTION:DISPLAY
DESCRIPTION:Match starts soon
END:VALARM
END:VEVENT
END:VCALENDAR
