BEGIN:VCALENDAR
VERSION:2.0
PRODID:-//WhenKickoff//Match Reminder//EN
BEGIN:VEVENT
UID:wk-537615-15@whenkickoff.com
DTSTAMP:20260420T113421Z
DTSTART:20260125T154500Z
DTEND:20260125T174500Z
SUMMARY:Feyenoord Rotterdam vs Heracles Almelo
DESCRIPTION:WhenKickoff reminder for Feyenoord Rotterdam vs Heracles Almelo
URL:https://whenkickoff.com/en/match/feyenoord-rotterdam-vs-heracles-almelo-537615/
BEGIN:VALARM
TRIGGER:-PT15M
ACTION:DISPLAY
DESCRIPTION:Match starts soon
END:VALARM
END:VEVENT
END:VCALENDAR
