BEGIN:VCALENDAR
VERSION:2.0
PRODID:-//WhenKickoff//Match Reminder//EN
BEGIN:VEVENT
UID:wk-537613-15@whenkickoff.com
DTSTAMP:20260420T133307Z
DTSTART:20260125T133000Z
DTEND:20260125T153000Z
SUMMARY:FC Groningen vs Fortuna Sittard
DESCRIPTION:WhenKickoff reminder for FC Groningen vs Fortuna Sittard
URL:https://whenkickoff.com/en/match/fc-groningen-vs-fortuna-sittard-537613/
BEGIN:VALARM
TRIGGER:-PT15M
ACTION:DISPLAY
DESCRIPTION:Match starts soon
END:VALARM
END:VEVENT
END:VCALENDAR
