BEGIN:VCALENDAR
VERSION:2.0
PRODID:-//WhenKickoff//Match Reminder//EN
BEGIN:VEVENT
UID:wk-537610-15@whenkickoff.com
DTSTAMP:20260420T062632Z
DTSTART:20260117T174500Z
DTEND:20260117T194500Z
SUMMARY:PEC Zwolle vs AZ
DESCRIPTION:WhenKickoff reminder for PEC Zwolle vs AZ
URL:https://whenkickoff.com/en/match/pec-zwolle-vs-az-537610/
BEGIN:VALARM
TRIGGER:-PT15M
ACTION:DISPLAY
DESCRIPTION:Match starts soon
END:VALARM
END:VEVENT
END:VCALENDAR
