BEGIN:VCALENDAR
VERSION:2.0
PRODID:-//WhenKickoff//Match Reminder//EN
BEGIN:VEVENT
UID:wk-537609-15@whenkickoff.com
DTSTAMP:20260420T062633Z
DTSTART:20260117T200000Z
DTEND:20260117T220000Z
SUMMARY:NAC Breda vs NEC
DESCRIPTION:WhenKickoff reminder for NAC Breda vs NEC
URL:https://whenkickoff.com/en/match/nac-breda-vs-nec-537609/
BEGIN:VALARM
TRIGGER:-PT15M
ACTION:DISPLAY
DESCRIPTION:Match starts soon
END:VALARM
END:VEVENT
END:VCALENDAR
