BEGIN:VCALENDAR
VERSION:2.0
PRODID:-//WhenKickoff//Match Reminder//EN
BEGIN:VEVENT
UID:wk-537607-15@whenkickoff.com
DTSTAMP:20260420T062632Z
DTSTART:20260117T190000Z
DTEND:20260117T210000Z
SUMMARY:Fortuna Sittard vs PSV
DESCRIPTION:WhenKickoff reminder for Fortuna Sittard vs PSV
URL:https://whenkickoff.com/en/match/fortuna-sittard-vs-psv-537607/
BEGIN:VALARM
TRIGGER:-PT15M
ACTION:DISPLAY
DESCRIPTION:Match starts soon
END:VALARM
END:VEVENT
END:VCALENDAR
