BEGIN:VCALENDAR
VERSION:2.0
PRODID:-//WhenKickoff//Match Reminder//EN
BEGIN:VEVENT
UID:wk-537605-15@whenkickoff.com
DTSTAMP:20260420T081619Z
DTSTART:20260118T133000Z
DTEND:20260118T153000Z
SUMMARY:FC Volendam vs FC Utrecht
DESCRIPTION:WhenKickoff reminder for FC Volendam vs FC Utrecht
URL:https://whenkickoff.com/en/match/fc-volendam-vs-fc-utrecht-537605/
BEGIN:VALARM
TRIGGER:-PT15M
ACTION:DISPLAY
DESCRIPTION:Match starts soon
END:VALARM
END:VEVENT
END:VCALENDAR
