BEGIN:VCALENDAR
VERSION:2.0
PRODID:-//WhenKickoff//Match Reminder//EN
BEGIN:VEVENT
UID:wk-537604-15@whenkickoff.com
DTSTAMP:20260420T062633Z
DTSTART:20260117T190000Z
DTEND:20260117T210000Z
SUMMARY:SBV Excelsior vs Telstar 1963
DESCRIPTION:WhenKickoff reminder for SBV Excelsior vs Telstar 1963
URL:https://whenkickoff.com/en/match/sbv-excelsior-vs-telstar-1963-537604/
BEGIN:VALARM
TRIGGER:-PT15M
ACTION:DISPLAY
DESCRIPTION:Match starts soon
END:VALARM
END:VEVENT
END:VCALENDAR
