BEGIN:VCALENDAR
VERSION:2.0
PRODID:-//WhenKickoff//Match Reminder//EN
BEGIN:VEVENT
UID:wk-537603-15@whenkickoff.com
DTSTAMP:20260420T062750Z
DTSTART:20260117T153000Z
DTEND:20260117T173000Z
SUMMARY:AFC Ajax vs Go Ahead Eagles
DESCRIPTION:WhenKickoff reminder for AFC Ajax vs Go Ahead Eagles
URL:https://whenkickoff.com/en/match/afc-ajax-vs-go-ahead-eagles-537603/
BEGIN:VALARM
TRIGGER:-PT15M
ACTION:DISPLAY
DESCRIPTION:Match starts soon
END:VALARM
END:VEVENT
END:VCALENDAR
