BEGIN:VCALENDAR
VERSION:2.0
PRODID:-//WhenKickoff//Match Reminder//EN
BEGIN:VEVENT
UID:wk-537602-15@whenkickoff.com
DTSTAMP:20260420T124540Z
DTSTART:20260110T174500Z
DTEND:20260110T194500Z
SUMMARY:FC Twente '65 vs PEC Zwolle
DESCRIPTION:WhenKickoff reminder for FC Twente '65 vs PEC Zwolle
URL:https://whenkickoff.com/en/match/fc-twente-65-vs-pec-zwolle-537602/
BEGIN:VALARM
TRIGGER:-PT15M
ACTION:DISPLAY
DESCRIPTION:Match starts soon
END:VALARM
END:VEVENT
END:VCALENDAR
