BEGIN:VCALENDAR
VERSION:2.0
PRODID:-//WhenKickoff//Match Reminder//EN
BEGIN:VEVENT
UID:wk-537601-15@whenkickoff.com
DTSTAMP:20260420T121857Z
DTSTART:20260111T133000Z
DTEND:20260111T153000Z
SUMMARY:Telstar 1963 vs AFC Ajax
DESCRIPTION:WhenKickoff reminder for Telstar 1963 vs AFC Ajax
URL:https://whenkickoff.com/en/match/telstar-1963-vs-afc-ajax-537601/
BEGIN:VALARM
TRIGGER:-PT15M
ACTION:DISPLAY
DESCRIPTION:Match starts soon
END:VALARM
END:VEVENT
END:VCALENDAR
