BEGIN:VCALENDAR
VERSION:2.0
PRODID:-//WhenKickoff//Match Reminder//EN
BEGIN:VEVENT
UID:wk-537600-15@whenkickoff.com
DTSTAMP:20260420T140054Z
DTSTART:20260111T154500Z
DTEND:20260111T174500Z
SUMMARY:Sparta Rotterdam vs Heracles Almelo
DESCRIPTION:WhenKickoff reminder for Sparta Rotterdam vs Heracles Almelo
URL:https://whenkickoff.com/en/match/sparta-rotterdam-vs-heracles-almelo-537600/
BEGIN:VALARM
TRIGGER:-PT15M
ACTION:DISPLAY
DESCRIPTION:Match starts soon
END:VALARM
END:VEVENT
END:VCALENDAR
