BEGIN:VCALENDAR
VERSION:2.0
PRODID:-//WhenKickoff//Match Reminder//EN
BEGIN:VEVENT
UID:wk-537598-15@whenkickoff.com
DTSTAMP:20260420T140054Z
DTSTART:20260110T190000Z
DTEND:20260110T210000Z
SUMMARY:PSV vs SBV Excelsior
DESCRIPTION:WhenKickoff reminder for PSV vs SBV Excelsior
URL:https://whenkickoff.com/en/match/psv-vs-sbv-excelsior-537598/
BEGIN:VALARM
TRIGGER:-PT15M
ACTION:DISPLAY
DESCRIPTION:Match starts soon
END:VALARM
END:VEVENT
END:VCALENDAR
