BEGIN:VCALENDAR
VERSION:2.0
PRODID:-//WhenKickoff//Match Reminder//EN
BEGIN:VEVENT
UID:wk-537597-15@whenkickoff.com
DTSTAMP:20260420T063933Z
DTSTART:20260211T200000Z
DTEND:20260211T220000Z
SUMMARY:NEC vs FC Utrecht
DESCRIPTION:WhenKickoff reminder for NEC vs FC Utrecht
URL:https://whenkickoff.com/en/match/nec-vs-fc-utrecht-537597/
BEGIN:VALARM
TRIGGER:-PT15M
ACTION:DISPLAY
DESCRIPTION:Match starts soon
END:VALARM
END:VEVENT
END:VCALENDAR
