BEGIN:VCALENDAR
VERSION:2.0
PRODID:-//WhenKickoff//Match Reminder//EN
BEGIN:VEVENT
UID:wk-537596-15@whenkickoff.com
DTSTAMP:20260420T140053Z
DTSTART:20260111T133000Z
DTEND:20260111T153000Z
SUMMARY:Go Ahead Eagles vs Fortuna Sittard
DESCRIPTION:WhenKickoff reminder for Go Ahead Eagles vs Fortuna Sittard
URL:https://whenkickoff.com/en/match/go-ahead-eagles-vs-fortuna-sittard-537596/
BEGIN:VALARM
TRIGGER:-PT15M
ACTION:DISPLAY
DESCRIPTION:Match starts soon
END:VALARM
END:VEVENT
END:VCALENDAR
