BEGIN:VCALENDAR
VERSION:2.0
PRODID:-//WhenKickoff//Match Reminder//EN
BEGIN:VEVENT
UID:wk-537594-15@whenkickoff.com
DTSTAMP:20260420T124625Z
DTSTART:20260110T153000Z
DTEND:20260110T173000Z
SUMMARY:AZ vs FC Volendam
DESCRIPTION:WhenKickoff reminder for AZ vs FC Volendam
URL:https://whenkickoff.com/en/match/az-vs-fc-volendam-537594/
BEGIN:VALARM
TRIGGER:-PT15M
ACTION:DISPLAY
DESCRIPTION:Match starts soon
END:VALARM
END:VEVENT
END:VCALENDAR
