BEGIN:VCALENDAR
VERSION:2.0
PRODID:-//WhenKickoff//Match Reminder//EN
BEGIN:VEVENT
UID:wk-537577-15@whenkickoff.com
DTSTAMP:20260420T080255Z
DTSTART:20260121T174500Z
DTEND:20260121T194500Z
SUMMARY:AZ vs SBV Excelsior
DESCRIPTION:WhenKickoff reminder for AZ vs SBV Excelsior
URL:https://whenkickoff.com/en/match/az-vs-sbv-excelsior-537577/
BEGIN:VALARM
TRIGGER:-PT15M
ACTION:DISPLAY
DESCRIPTION:Match starts soon
END:VALARM
END:VEVENT
END:VCALENDAR
