BEGIN:VCALENDAR
VERSION:2.0
PRODID:-//WhenKickoff//Match Reminder//EN
BEGIN:VEVENT
UID:wk-537168-15@whenkickoff.com
DTSTAMP:20260424T135232Z
DTSTART:20260508T184500Z
DTEND:20260508T204500Z
SUMMARY:Torino FC vs US Sassuolo Calcio
DESCRIPTION:WhenKickoff reminder for Torino FC vs US Sassuolo Calcio
URL:https://whenkickoff.com/en/match/torino-fc-vs-us-sassuolo-calcio-537168/
BEGIN:VALARM
TRIGGER:-PT15M
ACTION:DISPLAY
DESCRIPTION:Match starts soon
END:VALARM
END:VEVENT
END:VCALENDAR
