BEGIN:VCALENDAR
VERSION:2.0
PRODID:-//WhenKickoff//Match Reminder//EN
BEGIN:VEVENT
UID:wk-537160-15@whenkickoff.com
DTSTAMP:20260419T234142Z
DTSTART:20260503T160000Z
DTEND:20260503T180000Z
SUMMARY:Juventus FC vs Hellas Verona FC
DESCRIPTION:WhenKickoff reminder for Juventus FC vs Hellas Verona FC
URL:https://whenkickoff.com/en/match/juventus-fc-vs-hellas-verona-fc-537160/
BEGIN:VALARM
TRIGGER:-PT15M
ACTION:DISPLAY
DESCRIPTION:Match starts soon
END:VALARM
END:VEVENT
END:VCALENDAR
