BEGIN:VCALENDAR
VERSION:2.0
PRODID:-//WhenKickoff//Match Reminder//EN
BEGIN:VEVENT
UID:wk-537156-15@whenkickoff.com
DTSTAMP:20260420T033736Z
DTSTART:20260502T184500Z
DTEND:20260502T204500Z
SUMMARY:Atalanta BC vs Genoa CFC
DESCRIPTION:WhenKickoff reminder for Atalanta BC vs Genoa CFC
URL:https://whenkickoff.com/en/match/atalanta-bc-vs-genoa-cfc-537156/
BEGIN:VALARM
TRIGGER:-PT15M
ACTION:DISPLAY
DESCRIPTION:Match starts soon
END:VALARM
END:VEVENT
END:VCALENDAR
